BEGIN:VCALENDAR
VERSION:2.0
METHOD:PUBLISH
PRODID:-//Agenda.ad//NONSGML v1.0//EN
BEGIN:VEVENT
CLASS:PUBLIC
UID:52f413f38fdcc151af9263d420df122b@agenda.ad
DTSTAMP:20260424T110659Z
DTSTART:20200207T230000Z
DTEND:20200207T230000Z
SUMMARY:<p><strong>DISSABTES DE CUINA &middot; '</strong><strong style="font-size: 13px;">ENROTLLA&rsquo;T AMB LES CREPS'</strong></p>
DESCRIPTION:\n\nMés informació\nhttps://www.agenda.ad/activitat/escald
 es-engordany/activitats-infantils/dissabtes-de-cuina- enrot
 llat-amb-les-creps\n\n\nOrganitza\nComú d'Escaldes-Engordan
 y
LOCATION:Llar de jubilats
SEQUENCE:0
TRANSP:OPAQUE
X-ALT-DESC;FMTTYPE=text/html:<!DOCTYPE HTML PUBLIC "-//W3C//DTD HTML 3.2//EN"><HTML><HEAD
 ><TITLE></TITLE></HEAD><BODY><FONT FACE="Arial" SIZE=2><br/>
 <br/><b>Més informació</b><br/><a href="https://www.agenda
 .ad/activitat/escaldes-engordany/activitats-infantils/dissab
 tes-de-cuina- enrotllat-amb-les-creps">https://www.agenda.a
 d/activitat/escaldes-engordany/activitats-infantils/dissabte
 s-de-cuina- enrotllat-amb-les-creps</a><br/><br/><br/><b>Or
 ganitza</b><br/>Comú d'Escaldes-Engordany</FONT></BODY></HT
 ML>
END:VEVENT
END:VCALENDAR